BEGIN:VCALENDAR
VERSION:2.0
BEGIN:VEVENT
URL:https://tickets.oztix.com.au/outlet/event/4f9d070b-f0b4-4cd2-8b2f-4c571704ae41
DTSTART:20260422T000000Z
DTEND:20260422T000000Z
SUMMARY:Roma Street Parkland Bush Tucker Guided Tours  - 10AM Wednesday 22nd April
DESCRIPTION:Event details: https://tickets.oztix.com.au/outlet/event/4f9d070b-f0b4-4cd2-8b2f-4c571704ae41
LOCATION:Roma Street Parkland Hub (Brisbane City, QLD)
END:VEVENT
END:VCALENDAR