BEGIN:VCALENDAR
VERSION:2.0
BEGIN:VEVENT
URL:https://tickets.oztix.com.au/outlet/event/4f446538-a523-49f2-b480-934016fec194
DTSTART:20260717T100000Z
DTEND:20260717T100000Z
SUMMARY:AN EVENING WITH DOUBLE DRAGON AND FRIENDS
DESCRIPTION:Event details: https://tickets.oztix.com.au/outlet/event/4f446538-a523-49f2-b480-934016fec194
LOCATION:The Gov - The Venue (Hindmarsh, SA)
END:VEVENT
END:VCALENDAR