BEGIN:VCALENDAR
VERSION:2.0
BEGIN:VEVENT
URL:https://tickets.oztix.com.au/outlet/event/4ef41c53-0a7b-483a-bb8e-e5984e3cc33a
DTSTART:20260718T080000Z
DTEND:20260718T080000Z
SUMMARY:Screamfeeder at The Presynct, Nambour
DESCRIPTION:Event details: https://tickets.oztix.com.au/outlet/event/4ef41c53-0a7b-483a-bb8e-e5984e3cc33a
LOCATION:The Presynct (Nambour, QLD)
END:VEVENT
END:VCALENDAR