BEGIN:VCALENDAR
VERSION:2.0
BEGIN:VEVENT
URL:https://tickets.oztix.com.au/outlet/event/4e2deb76-0ff5-4f1f-b1e8-ef4d58ee09f5
DTSTART:20260529T090000Z
DTEND:20260529T090000Z
SUMMARY:BLACK FLAG AUSTRALIAN TOUR
DESCRIPTION:Event details: https://tickets.oztix.com.au/outlet/event/4e2deb76-0ff5-4f1f-b1e8-ef4d58ee09f5
LOCATION:Crowbar Sydney (Leichhardt, NSW)
END:VEVENT
END:VCALENDAR