BEGIN:VCALENDAR
VERSION:2.0
BEGIN:VEVENT
URL:https://tickets.oztix.com.au/outlet/event/4d52c6bf-050e-4067-aa1b-84a255aad2fe
DTSTART:20260614T080000Z
DTEND:20260614T080000Z
SUMMARY:Bully Hay - Live and Acoustic
DESCRIPTION:Event details: https://tickets.oztix.com.au/outlet/event/4d52c6bf-050e-4067-aa1b-84a255aad2fe
LOCATION:The Presynct (Nambour, QLD)
END:VEVENT
END:VCALENDAR