BEGIN:VCALENDAR
VERSION:2.0
BEGIN:VEVENT
URL:https://tickets.oztix.com.au/outlet/event/4cc9512c-9c09-46ed-a3f2-b87e290c8403
DTSTART:20260626T080000Z
DTEND:20260626T080000Z
SUMMARY:Fern with Special Guests
DESCRIPTION:Event details: https://tickets.oztix.com.au/outlet/event/4cc9512c-9c09-46ed-a3f2-b87e290c8403
LOCATION:The Presynct (Nambour, QLD)
END:VEVENT
END:VCALENDAR