BEGIN:VCALENDAR
VERSION:2.0
BEGIN:VEVENT
URL:https://tickets.oztix.com.au/outlet/event/4c39b5ae-7a50-4858-b21e-9f681e84facc
DTSTART:20260522T110000Z
DTEND:20260522T110000Z
SUMMARY:Aloe Vera
DESCRIPTION:Event details: https://tickets.oztix.com.au/outlet/event/4c39b5ae-7a50-4858-b21e-9f681e84facc
LOCATION:Vic on The Park Hotel (Marrickville, NSW)
END:VEVENT
END:VCALENDAR