BEGIN:VCALENDAR
VERSION:2.0
BEGIN:VEVENT
URL:https://tickets.oztix.com.au/outlet/event/4bd5ae3c-3c7f-4e37-9b88-bd734e95f083
DTSTART:20260716T080000Z
DTEND:20260716T080000Z
SUMMARY:Phil Hayter’s Illuminators
DESCRIPTION:Event details: https://tickets.oztix.com.au/outlet/event/4bd5ae3c-3c7f-4e37-9b88-bd734e95f083
LOCATION:The Presynct (Nambour, QLD)
END:VEVENT
END:VCALENDAR