BEGIN:VCALENDAR
VERSION:2.0
BEGIN:VEVENT
URL:https://tickets.oztix.com.au/outlet/event/4b577e80-2e43-4750-ba1f-f90aa36e757a
DTSTART:20260801T083000Z
DTEND:20260801T083000Z
SUMMARY:CDB | 90’s Child Tour 2026
DESCRIPTION:Event details: https://tickets.oztix.com.au/outlet/event/4b577e80-2e43-4750-ba1f-f90aa36e757a
LOCATION:Hepburn Palais (Hepburn Springs, VIC)
END:VEVENT
END:VCALENDAR