BEGIN:VCALENDAR
VERSION:2.0
BEGIN:VEVENT
URL:https://tickets.oztix.com.au/outlet/event/4b37ba93-ba4e-4c23-8d63-438c097cd811
DTSTART:20260607T093000Z
DTEND:20260607T093000Z
SUMMARY:Dry Cleaning
DESCRIPTION:Event details: https://tickets.oztix.com.au/outlet/event/4b37ba93-ba4e-4c23-8d63-438c097cd811
LOCATION:Ballarat Civic Hall (Ballarat Central, VIC)
END:VEVENT
END:VCALENDAR