BEGIN:VCALENDAR
VERSION:2.0
BEGIN:VEVENT
URL:https://tickets.oztix.com.au/outlet/event/4a4d4f64-b885-485b-9afb-36711ffe8a13
DTSTART:20260510T090000Z
DTEND:20260510T090000Z
SUMMARY:ECLIPSE (Sweden)
DESCRIPTION:Event details: https://tickets.oztix.com.au/outlet/event/4a4d4f64-b885-485b-9afb-36711ffe8a13
LOCATION:Crowbar Sydney (Leichhardt, NSW)
END:VEVENT
END:VCALENDAR