BEGIN:VCALENDAR
VERSION:2.0
BEGIN:VEVENT
URL:https://tickets.oztix.com.au/outlet/event/4a4482fe-f980-4e18-954b-59874b4f2ce9
DTSTART:20260605T103000Z
DTEND:20260605T103000Z
SUMMARY:meta4 (Single Launch) w/ Juliette Miot + Ella Faith
DESCRIPTION:Event details: https://tickets.oztix.com.au/outlet/event/4a4482fe-f980-4e18-954b-59874b4f2ce9
LOCATION:Bar Open (Fitzroy, VIC)
END:VEVENT
END:VCALENDAR