BEGIN:VCALENDAR
VERSION:2.0
BEGIN:VEVENT
URL:https://tickets.oztix.com.au/outlet/event/49ec44cd-5a71-4690-ae7e-4a195351614e
DTSTART:20260429T110000Z
DTEND:20260429T110000Z
SUMMARY:Noise Complaints 1st Bday!
DESCRIPTION:Event details: https://tickets.oztix.com.au/outlet/event/49ec44cd-5a71-4690-ae7e-4a195351614e
LOCATION:The Bird (Northbridge, Perth, WA)
END:VEVENT
END:VCALENDAR