BEGIN:VCALENDAR
VERSION:2.0
BEGIN:VEVENT
URL:https://tickets.oztix.com.au/outlet/event/49150d6f-fa61-4512-8f7f-0b4d3c60e0ee
DTSTART:20260730T100000Z
DTEND:20260730T100000Z
SUMMARY:Sheeran Out Loud (UK) - Mackay
DESCRIPTION:Event details: https://tickets.oztix.com.au/outlet/event/49150d6f-fa61-4512-8f7f-0b4d3c60e0ee
LOCATION:McGuires Hotel (Mackay, QLD)
END:VEVENT
END:VCALENDAR