BEGIN:VCALENDAR
VERSION:2.0
BEGIN:VEVENT
URL:https://tickets.oztix.com.au/outlet/event/49101f36-54bf-47ef-8917-2d86ba31876d
DTSTART:20260509T010000Z
DTEND:20260509T010000Z
SUMMARY:Salty Hops Festival
DESCRIPTION:Event details: https://tickets.oztix.com.au/outlet/event/49101f36-54bf-47ef-8917-2d86ba31876d
LOCATION:Yeppoon Main Beach (Yeppoon, QLD)
END:VEVENT
END:VCALENDAR