BEGIN:VCALENDAR
VERSION:2.0
BEGIN:VEVENT
URL:https://tickets.oztix.com.au/outlet/event/485bbade-1f7a-42a9-8eb7-fa3ca678daed
DTSTART:20260621T050000Z
DTEND:20260621T050000Z
SUMMARY:Andrew McSweeney & The Wishing Horse Spread My Wings single launch.
DESCRIPTION:Event details: https://tickets.oztix.com.au/outlet/event/485bbade-1f7a-42a9-8eb7-fa3ca678daed
LOCATION:Wesley Anne (Northcote, VIC)
END:VEVENT
END:VCALENDAR