BEGIN:VCALENDAR
VERSION:2.0
BEGIN:VEVENT
URL:https://tickets.oztix.com.au/outlet/event/47ba8969-8fef-414f-8ba6-98be3d311d3a
DTSTART:20260522T100000Z
DTEND:20260522T100000Z
SUMMARY:Mark Campbell & The Ravens - The Gem Bar - Free Entry
DESCRIPTION:Event details: https://tickets.oztix.com.au/outlet/event/47ba8969-8fef-414f-8ba6-98be3d311d3a
LOCATION:The Gem Bar (Collingwood, VIC)
END:VEVENT
END:VCALENDAR