BEGIN:VCALENDAR
VERSION:2.0
BEGIN:VEVENT
URL:https://tickets.oztix.com.au/outlet/event/47b6d5be-9c04-4243-8883-dd2bd5d9ffaa
DTSTART:20260501T013000Z
DTEND:20260501T013000Z
SUMMARY:Newstead House Friday Guided Tours - 11:30AM Friday 1st May
DESCRIPTION:Event details: https://tickets.oztix.com.au/outlet/event/47b6d5be-9c04-4243-8883-dd2bd5d9ffaa
LOCATION:Newstead House (Newstead, QLD)
END:VEVENT
END:VCALENDAR