BEGIN:VCALENDAR
VERSION:2.0
BEGIN:VEVENT
URL:https://tickets.oztix.com.au/outlet/event/476f75a1-1ac8-4789-9094-a5e250dfca9f
DTSTART:20260605T090000Z
DTEND:20260605T090000Z
SUMMARY:Royale With Cheese: Rage Against The 90s - The Ultimate 90's Rock Show
DESCRIPTION:Event details: https://tickets.oztix.com.au/outlet/event/476f75a1-1ac8-4789-9094-a5e250dfca9f
LOCATION:The Heritage Hotel, Bulli (Bulli, NSW)
END:VEVENT
END:VCALENDAR