BEGIN:VCALENDAR
VERSION:2.0
BEGIN:VEVENT
URL:https://tickets.oztix.com.au/outlet/event/4692f335-e7af-4fef-8c50-3c151c5bbd87
DTSTART:20261107T063000Z
DTEND:20261107T063000Z
SUMMARY:Negative Approach 2026 AUS & NZ Tour
DESCRIPTION:Event details: https://tickets.oztix.com.au/outlet/event/4692f335-e7af-4fef-8c50-3c151c5bbd87
LOCATION:The Brightside (Fortitude Valley, QLD)
END:VEVENT
END:VCALENDAR