BEGIN:VCALENDAR
VERSION:2.0
BEGIN:VEVENT
URL:https://tickets.oztix.com.au/outlet/event/4660c898-ad05-4980-8041-607188661e2e
DTSTART:20260911T090000Z
DTEND:20260911T090000Z
SUMMARY:Sienna Skies "Australian Spring Tour"
DESCRIPTION:Event details: https://tickets.oztix.com.au/outlet/event/4660c898-ad05-4980-8041-607188661e2e
LOCATION:Bergy Bandroom (Brunswick, VIC)
END:VEVENT
END:VCALENDAR