BEGIN:VCALENDAR
VERSION:2.0
BEGIN:VEVENT
URL:https://tickets.oztix.com.au/outlet/event/44e516c9-8d39-4776-9456-a71b9e70759e
DTSTART:20260522T090000Z
DTEND:20260522T090000Z
SUMMARY:Ball Park Music | 'The Rock ’n’ Roll Adventure Continues…' Australian Tour 2026
DESCRIPTION:Event details: https://tickets.oztix.com.au/outlet/event/44e516c9-8d39-4776-9456-a71b9e70759e
LOCATION:Newcastle University - Bar On The Hill (Newcastle, NSW)
END:VEVENT
END:VCALENDAR