BEGIN:VCALENDAR
VERSION:2.0
BEGIN:VEVENT
URL:https://tickets.oztix.com.au/outlet/event/44dde180-d8f3-4c0f-a942-ce46dec94edb
DTSTART:20260502T020000Z
DTEND:20260502T020000Z
SUMMARY:Welshie and the Heart Throbs - Single Release Show (ALL AGES)
DESCRIPTION:Event details: https://tickets.oztix.com.au/outlet/event/44dde180-d8f3-4c0f-a942-ce46dec94edb
LOCATION:Mo's Desert Clubhouse (Burleigh Heads, QLD)
END:VEVENT
END:VCALENDAR