BEGIN:VCALENDAR
VERSION:2.0
BEGIN:VEVENT
URL:https://tickets.oztix.com.au/outlet/event/44260a98-8d31-4a8f-aac9-c57da5b4eceb
DTSTART:20260529T090000Z
DTEND:20260529T090000Z
SUMMARY:Double Barrel Solution Melbourne EP Launch
DESCRIPTION:Event details: https://tickets.oztix.com.au/outlet/event/44260a98-8d31-4a8f-aac9-c57da5b4eceb
LOCATION:The Tote - Upstairs (Collingwood, VIC)
END:VEVENT
END:VCALENDAR