BEGIN:VCALENDAR
VERSION:2.0
BEGIN:VEVENT
URL:https://tickets.oztix.com.au/outlet/event/43ef528f-4885-4935-9732-369c578a6241
DTSTART:20260523T120000Z
DTEND:20260523T120000Z
SUMMARY:RETRO Inc. - ULTIMATE 80's at The Local House Beeliar
DESCRIPTION:Event details: https://tickets.oztix.com.au/outlet/event/43ef528f-4885-4935-9732-369c578a6241
LOCATION:The Local House Bar & Grill (Cockburn Central, WA)
END:VEVENT
END:VCALENDAR