BEGIN:VCALENDAR
VERSION:2.0
BEGIN:VEVENT
URL:https://tickets.oztix.com.au/outlet/event/43b91224-9d05-48e1-84a0-e1ace980bb24
DTSTART:20260430T090000Z
DTEND:20260430T090000Z
SUMMARY:5 BANDS 5 BUCKS #1
DESCRIPTION:Event details: https://tickets.oztix.com.au/outlet/event/43b91224-9d05-48e1-84a0-e1ace980bb24
LOCATION:The Chippo Hotel (Chippendale, NSW)
END:VEVENT
END:VCALENDAR