BEGIN:VCALENDAR
VERSION:2.0
BEGIN:VEVENT
URL:https://tickets.oztix.com.au/outlet/event/42453d36-e886-4491-b834-dcf86f17aad0
DTSTART:20260510T090000Z
DTEND:20260510T090000Z
SUMMARY:Beautiful Beasts present "Un Bouquet De Chansons"
DESCRIPTION:Event details: https://tickets.oztix.com.au/outlet/event/42453d36-e886-4491-b834-dcf86f17aad0
LOCATION:Lyric's Underground (Maylands, WA)
END:VEVENT
END:VCALENDAR