BEGIN:VCALENDAR
VERSION:2.0
BEGIN:VEVENT
URL:https://tickets.oztix.com.au/outlet/event/42204ea4-c3c0-4a1e-9dd8-63416888b55f
DTSTART:20261125T113000Z
DTEND:20261125T113000Z
SUMMARY:Fischer-Z
DESCRIPTION:Event details: https://tickets.oztix.com.au/outlet/event/42204ea4-c3c0-4a1e-9dd8-63416888b55f
LOCATION:Rosemount Hotel (North Perth, WA)
END:VEVENT
END:VCALENDAR