BEGIN:VCALENDAR
VERSION:2.0
BEGIN:VEVENT
URL:https://tickets.oztix.com.au/outlet/event/41ad7f1c-7996-4d55-9cd4-3d79348c3d41
DTSTART:20260516T040000Z
DTEND:20260516T040000Z
SUMMARY:J.Whitehead & The Dirty Realists
DESCRIPTION:Event details: https://tickets.oztix.com.au/outlet/event/41ad7f1c-7996-4d55-9cd4-3d79348c3d41
LOCATION:Shotkickers (Thornbury, VIC)
END:VEVENT
END:VCALENDAR