BEGIN:VCALENDAR
VERSION:2.0
BEGIN:VEVENT
URL:https://tickets.oztix.com.au/outlet/event/412f3784-cc96-45e8-be55-5ea21451833d
DTSTART:20260426T120000Z
DTEND:20260426T120000Z
SUMMARY:Rock for a Reason
DESCRIPTION:Event details: https://tickets.oztix.com.au/outlet/event/412f3784-cc96-45e8-be55-5ea21451833d
LOCATION:Indian Ocean Hotel (Scarborough, WA)
END:VEVENT
END:VCALENDAR