BEGIN:VCALENDAR
VERSION:2.0
BEGIN:VEVENT
URL:https://tickets.oztix.com.au/outlet/event/3f015c81-d36d-4679-b6cf-8f89942e01d7
DTSTART:20260501T080000Z
DTEND:20260501T080000Z
SUMMARY:Jet - The Rumblin' Regional Revue
DESCRIPTION:Event details: https://tickets.oztix.com.au/outlet/event/3f015c81-d36d-4679-b6cf-8f89942e01d7
LOCATION:The Warehouse Bandroom  (Townsville, QLD)
END:VEVENT
END:VCALENDAR