BEGIN:VCALENDAR
VERSION:2.0
BEGIN:VEVENT
URL:https://tickets.oztix.com.au/outlet/event/3d0cc6f4-b9c8-4c4f-ba94-7f0f475b2e1c
DTSTART:20260424T080000Z
DTEND:20260424T080000Z
SUMMARY:HOUSEPARTYY SESSIONS VOL. 9 (The Icon Bar)
DESCRIPTION:Event details: https://tickets.oztix.com.au/outlet/event/3d0cc6f4-b9c8-4c4f-ba94-7f0f475b2e1c
LOCATION:Coolangatta Hotel - Public Bar (Coolangatta, Gold Coast, QLD)
END:VEVENT
END:VCALENDAR