BEGIN:VCALENDAR
VERSION:2.0
BEGIN:VEVENT
URL:https://tickets.oztix.com.au/outlet/event/3c52a838-97cf-4c2d-977c-53eafc684b0d
DTSTART:20260529T100000Z
DTEND:20260529T100000Z
SUMMARY:The Crystal Ship - Unplugged - With Greg Allan supporting
DESCRIPTION:Event details: https://tickets.oztix.com.au/outlet/event/3c52a838-97cf-4c2d-977c-53eafc684b0d
LOCATION:Wesley Anne (Northcote, VIC)
END:VEVENT
END:VCALENDAR