BEGIN:VCALENDAR
VERSION:2.0
BEGIN:VEVENT
URL:https://tickets.oztix.com.au/outlet/event/3c4c3503-6ed5-4a5e-b8a1-18897beb5353
DTSTART:20260528T090000Z
DTEND:20260528T090000Z
SUMMARY:Ollie Mcgill (Cat Empire) & Songs of Jatt
DESCRIPTION:Event details: https://tickets.oztix.com.au/outlet/event/3c4c3503-6ed5-4a5e-b8a1-18897beb5353
LOCATION:The Heritage Hotel, Bulli (Bulli, NSW)
END:VEVENT
END:VCALENDAR