BEGIN:VCALENDAR
VERSION:2.0
BEGIN:VEVENT
URL:https://tickets.oztix.com.au/outlet/event/3b96d680-7c14-4de4-a906-a176640890a5
DTSTART:20260529T080000Z
DTEND:20260529T080000Z
SUMMARY:Jack Daniel's Tasting Night
DESCRIPTION:Event details: https://tickets.oztix.com.au/outlet/event/3b96d680-7c14-4de4-a906-a176640890a5
LOCATION:Jamison Hotel (Penrith, NSW)
END:VEVENT
END:VCALENDAR