BEGIN:VCALENDAR
VERSION:2.0
BEGIN:VEVENT
URL:https://tickets.oztix.com.au/outlet/event/3b5e74d7-5089-469f-8bc1-b826f11de353
DTSTART:20260523T090000Z
DTEND:20260523T090000Z
SUMMARY:Dallow ‘Shameless’ Single Launch
DESCRIPTION:Event details: https://tickets.oztix.com.au/outlet/event/3b5e74d7-5089-469f-8bc1-b826f11de353
LOCATION:Tomcat (Fortitude Valley, QLD)
END:VEVENT
END:VCALENDAR