BEGIN:VCALENDAR
VERSION:2.0
BEGIN:VEVENT
URL:https://tickets.oztix.com.au/outlet/event/399d699c-b147-4cb3-8067-4b053ececea2
DTSTART:20260919T090000Z
DTEND:20260919T090000Z
SUMMARY:DISGRACELAND
DESCRIPTION:Event details: https://tickets.oztix.com.au/outlet/event/399d699c-b147-4cb3-8067-4b053ececea2
LOCATION:Tomcat (Fortitude Valley, QLD)
END:VEVENT
END:VCALENDAR