BEGIN:VCALENDAR
VERSION:2.0
BEGIN:VEVENT
URL:https://tickets.oztix.com.au/outlet/event/394b804f-88c7-4215-b677-78229b45cb60
DTSTART:20260502T090000Z
DTEND:20260502T090000Z
SUMMARY:Forever on High - Back To Basics QLD Tour
DESCRIPTION:Event details: https://tickets.oztix.com.au/outlet/event/394b804f-88c7-4215-b677-78229b45cb60
LOCATION:Suzie Wongs Good Time Bar (Fortitude Valley, QLD)
END:VEVENT
END:VCALENDAR