BEGIN:VCALENDAR
VERSION:2.0
BEGIN:VEVENT
URL:https://tickets.oztix.com.au/outlet/event/39160d1f-a903-4449-b905-77081ce71617
DTSTART:20260523T060000Z
DTEND:20260523T060000Z
SUMMARY:W I L D at El Ranchero
DESCRIPTION:Event details: https://tickets.oztix.com.au/outlet/event/39160d1f-a903-4449-b905-77081ce71617
LOCATION:Mo's Desert Clubhouse (Burleigh Heads, QLD)
END:VEVENT
END:VCALENDAR