BEGIN:VCALENDAR
VERSION:2.0
BEGIN:VEVENT
URL:https://tickets.oztix.com.au/outlet/event/38ee2a32-f331-4502-b611-9668348e9eb3
DTSTART:20260808T093000Z
DTEND:20260808T093000Z
SUMMARY:SOLITARY MAN – A Diamond Anniversary Celebration 1966–1992 Featuring the Australian Symphony Orchestra & International Star Peter Byrne
DESCRIPTION:Event details: https://tickets.oztix.com.au/outlet/event/38ee2a32-f331-4502-b611-9668348e9eb3
LOCATION:Doyalson RSL (Doyalson, NSW)
END:VEVENT
END:VCALENDAR