BEGIN:VCALENDAR
VERSION:2.0
BEGIN:VEVENT
URL:https://tickets.oztix.com.au/outlet/event/38d17a25-e49a-4330-a365-0000d57899a8
DTSTART:20260605T100000Z
DTEND:20260605T100000Z
SUMMARY:The Wolfe Brothers
DESCRIPTION:Event details: https://tickets.oztix.com.au/outlet/event/38d17a25-e49a-4330-a365-0000d57899a8
LOCATION:Leichhardt Hotel (Rockhampton, QLD)
END:VEVENT
END:VCALENDAR