BEGIN:VCALENDAR
VERSION:2.0
BEGIN:VEVENT
URL:https://tickets.oztix.com.au/outlet/event/38c40924-4b09-4499-bd99-8641cfa09837
DTSTART:20260425T113000Z
DTEND:20260425T113000Z
SUMMARY:Blame The Dog LIVE
DESCRIPTION:Event details: https://tickets.oztix.com.au/outlet/event/38c40924-4b09-4499-bd99-8641cfa09837
LOCATION:Lynott's Lounge (Northbridge, WA)
END:VEVENT
END:VCALENDAR