BEGIN:VCALENDAR
VERSION:2.0
BEGIN:VEVENT
URL:https://tickets.oztix.com.au/outlet/event/3899b2f0-2fbe-43b3-9910-95d56279b86d
DTSTART:20260517T083000Z
DTEND:20260517T083000Z
SUMMARY:Cosmos Ensemble Reach Out to The Ra
DESCRIPTION:Event details: https://tickets.oztix.com.au/outlet/event/3899b2f0-2fbe-43b3-9910-95d56279b86d
LOCATION:The Junk Bar (New Farm, QLD)
END:VEVENT
END:VCALENDAR