BEGIN:VCALENDAR
VERSION:2.0
BEGIN:VEVENT
URL:https://tickets.oztix.com.au/outlet/event/36b7b2b2-0ce2-44b1-a750-b0e637f4e763
DTSTART:20260711T040000Z
DTEND:20260711T040000Z
SUMMARY:Bailey Perrie
DESCRIPTION:Event details: https://tickets.oztix.com.au/outlet/event/36b7b2b2-0ce2-44b1-a750-b0e637f4e763
LOCATION:The Workers Club (Fitzroy, VIC)
END:VEVENT
END:VCALENDAR