BEGIN:VCALENDAR
VERSION:2.0
BEGIN:VEVENT
URL:https://tickets.oztix.com.au/outlet/event/367c3bf5-6da0-416a-bd0f-446dfaf72356
DTSTART:20260724T090000Z
DTEND:20260724T090000Z
SUMMARY:THIRD EYE & KHAN – 10 Year Dual-Headline Australian Tour
DESCRIPTION:Event details: https://tickets.oztix.com.au/outlet/event/367c3bf5-6da0-416a-bd0f-446dfaf72356
LOCATION:The Baso - Canberra (Belconnen, ACT)
END:VEVENT
END:VCALENDAR