BEGIN:VCALENDAR
VERSION:2.0
BEGIN:VEVENT
URL:https://tickets.oztix.com.au/outlet/event/3639b666-8385-43e1-b6f7-375884f11948
DTSTART:20260517T070000Z
DTEND:20260517T070000Z
SUMMARY:Sunday School: Heavy Delay, Tudor Club, Funkytown Fish
DESCRIPTION:Event details: https://tickets.oztix.com.au/outlet/event/3639b666-8385-43e1-b6f7-375884f11948
LOCATION:Bergy Bandroom (Brunswick, VIC)
END:VEVENT
END:VCALENDAR