BEGIN:VCALENDAR
VERSION:2.0
BEGIN:VEVENT
URL:https://tickets.oztix.com.au/outlet/event/35df63e3-f803-4ccf-9828-f0c37df6428b
DTSTART:20260626T080000Z
DTEND:20260626T080000Z
SUMMARY:RONA.
DESCRIPTION:Event details: https://tickets.oztix.com.au/outlet/event/35df63e3-f803-4ccf-9828-f0c37df6428b
LOCATION:Coorabell Hall (Coorabell, NSW)
END:VEVENT
END:VCALENDAR