BEGIN:VCALENDAR
VERSION:2.0
BEGIN:VEVENT
URL:https://tickets.oztix.com.au/outlet/event/3587c604-c155-470f-a4be-6c211f39c9aa
DTSTART:20260425T090000Z
DTEND:20260425T090000Z
SUMMARY:RnB Night
DESCRIPTION:Event details: https://tickets.oztix.com.au/outlet/event/3587c604-c155-470f-a4be-6c211f39c9aa
LOCATION:Tully Bowls Club  (Tully, QLD)
END:VEVENT
END:VCALENDAR