BEGIN:VCALENDAR
VERSION:2.0
BEGIN:VEVENT
URL:https://tickets.oztix.com.au/outlet/event/352f298f-3488-4d13-bc64-0f609f0ecb0a
DTSTART:20260425T110000Z
DTEND:20260425T110000Z
SUMMARY:Straight Outta Compton with Lil Eazy E 2026- Darwin
DESCRIPTION:Event details: https://tickets.oztix.com.au/outlet/event/352f298f-3488-4d13-bc64-0f609f0ecb0a
LOCATION:Bustard Town (Darwin City, NT)
END:VEVENT
END:VCALENDAR