BEGIN:VCALENDAR
VERSION:2.0
BEGIN:VEVENT
URL:https://tickets.oztix.com.au/outlet/event/34fe3022-943f-4abd-bf98-9760b83aa9ad
DTSTART:20260515T100000Z
DTEND:20260515T100000Z
SUMMARY:Royale With Cheese: Rage Against The 90s - The Ultimate 90's Rock Show
DESCRIPTION:Event details: https://tickets.oztix.com.au/outlet/event/34fe3022-943f-4abd-bf98-9760b83aa9ad
LOCATION:Wallaby Hotel (Mudgeeraba, QLD)
END:VEVENT
END:VCALENDAR